BEGIN:VCALENDAR
VERSION:2.0
PRODID:DPCALENDAR
CALSCALE:GREGORIAN
BEGIN:VTIMEZONE
TZID:Europe/Helsinki
X-MICROSOFT-CDO-TZID:59
BEGIN:STANDARD
DTSTART:20251026T010000
TZOFFSETFROM:+0300
TZOFFSETTO:+0200
TZNAME:EET
END:STANDARD
BEGIN:STANDARD
DTSTART:20261025T010000
TZOFFSETFROM:+0300
TZOFFSETTO:+0200
TZNAME:EET
END:STANDARD
BEGIN:DAYLIGHT
DTSTART:20260329T010000
TZOFFSETFROM:+0200
TZOFFSETTO:+0300
TZNAME:EEST
END:DAYLIGHT
END:VTIMEZONE
X-WR-TIMEZONE:Europe/Helsinki
BEGIN:VEVENT
DTSTART;VALUE=DATE:20240830
DTEND;VALUE=DATE:20240902
UID:F8ED4E63-0D62-4A94-8B97-CDC408125201
SUMMARY:Syysiltamat (puikkarikuuri)
CREATED:20220503T153838Z
DTSTAMP:20220503T153838Z
DESCRIPTION:
X-ALT-DESC;FMTTYPE=text/html:
LAST-MODIFIED:20250112T132143Z
SEQUENCE:85095785
X-ACCESS:1
X-HITS:189
X-URL:https://www.haapasaari.net/koulun-ja-puikkarikuurin-kalenteri/syysiltamat-puikkarikuuri-5
X-COLOR:997950
X-SHOW-END-TIME:1
END:VEVENT
BEGIN:VEVENT
DTSTART;VALUE=DATE:20250520
DTEND;VALUE=DATE:20250527
UID:7C9C1D11-B9C5-4580-90C8-BB5CFE0E9992
SUMMARY:Yksityinen varaus (puikkarikuuri)
CREATED:20200422T073920Z
DTSTAMP:20200422T073920Z
DESCRIPTION:
X-ALT-DESC;FMTTYPE=text/html:
LAST-MODIFIED:20250415T065434Z
SEQUENCE:157158914
X-ACCESS:1
X-HITS:235
X-URL:https://www.haapasaari.net/koulun-ja-puikkarikuurin-kalenteri/yksityinen-varaus-puikkarikuuri-4
X-COLOR:997950
X-SHOW-END-TIME:1
END:VEVENT
BEGIN:VEVENT
DTSTART;VALUE=DATE:20250829
DTEND;VALUE=DATE:20250901
UID:01A0CF98-7D80-45DF-BB58-6F513E3778D0
SUMMARY:Syysiltamat (puikkarikuuri)
CREATED:20220503T154059Z
DTSTAMP:20220503T154059Z
DESCRIPTION:
X-ALT-DESC;FMTTYPE=text/html:
LAST-MODIFIED:20250112T132252Z
SEQUENCE:85095713
X-ACCESS:1
X-HITS:320
X-URL:https://www.haapasaari.net/koulun-ja-puikkarikuurin-kalenteri/syysiltamat-puikkarikuuri-6
X-COLOR:997950
X-SHOW-END-TIME:1
END:VEVENT
BEGIN:VEVENT
DTSTART;VALUE=DATE:20260618
DTEND;VALUE=DATE:20260622
UID:DFC1CCAC-BBCB-4F5B-92AD-218B685DB673
SUMMARY:Yksityinen varaus (puikkarikuuri)
CREATED:20250415T060023Z
DTSTAMP:20250415T060023Z
DESCRIPTION:
X-ALT-DESC;FMTTYPE=text/html:
LAST-MODIFIED:20260312T184230Z
SEQUENCE:28644127
X-ACCESS:1
X-HITS:160
X-URL:https://www.haapasaari.net/koulun-ja-puikkarikuurin-kalenteri/yksityinen-varaus-puikkarikuuri-5
X-COLOR:997950
X-SHOW-END-TIME:1
END:VEVENT
BEGIN:VEVENT
DTSTART;VALUE=DATE:20260828
DTEND;VALUE=DATE:20260831
UID:F4275D1F-E462-4C9D-878B-93416FEECDA4
SUMMARY:Syysiltamat (puikkarikuuri)
CREATED:20220503T154422Z
DTSTAMP:20220503T154422Z
DESCRIPTION:
X-ALT-DESC;FMTTYPE=text/html:
LAST-MODIFIED:20250112T132304Z
SEQUENCE:85095522
X-ACCESS:1
X-HITS:104
X-URL:https://www.haapasaari.net/koulun-ja-puikkarikuurin-kalenteri/syysiltamat-puikkarikuuri-7
X-COLOR:997950
X-SHOW-END-TIME:1
END:VEVENT
BEGIN:VEVENT
DTSTART;VALUE=DATE:20270827
DTEND;VALUE=DATE:20270830
UID:95715015-9FBA-4851-A671-D3D52F40D63B
SUMMARY:Syysiltamat (puikkarikuuri)
CREATED:20220503T154900Z
DTSTAMP:20220503T154900Z
DESCRIPTION:
X-ALT-DESC;FMTTYPE=text/html:
LAST-MODIFIED:20250112T132306Z
SEQUENCE:85095246
X-ACCESS:1
X-HITS:5
X-URL:https://www.haapasaari.net/koulun-ja-puikkarikuurin-kalenteri/syysiltamat-puikkarikuuri-8
X-COLOR:997950
X-SHOW-END-TIME:1
END:VEVENT
END:VCALENDAR